Workbook

Sheet Test the API with Excel
A1: CarbonTracer (Excel-Vorlage)
A3: bitte befüllen Sie die grau-hinterlegten Felder, um die API zu testen
A5: 1. Your API-Key | B5: Bitte den 40-stelligen API-Key eintragen | C5: (Enter your API-Key here)
A7: 2. Location Endpoint
A8: Your endpoint: | B8: ="https://api.carbontracer.uni-graz.at/excel/location/" & $B$5 &"/{location}" -> https://api.carbontracer.uni-graz.at/excel/location/Bitte den 40-stelligen API-Key eintragen/{location}
A9: Location: | B9: Graz | C9: (Ort oder Stadt)
A10: Result: | B10: =_xlfn.WEBSERVICE(SUBSTITUTE(B8,"{location}",B9)) -> #VALUE! | C10: (Ergebnis mit Geokoordinaten)
A12: 3. Address Endpoint
A13: Your endpoint: | B13: ="https://api.carbontracer.uni-graz.at/excel/address/" & $B$5 &"/{postalCode}/{city}/{street}" -> https://api.carbontracer.uni-graz.at/excel/address/Bitte den 40-stelligen API-Key eintragen/{postalCode}/{city}/{street}
A14: PostalCode: | B14: 8010 | C14: (PLZ)
A15: City: | B15: Graz | C15: (Ort)
A16: Street: | B16: Halbärthgasse 8 | C16: (Straße und Hausnummer)
A17: Result: | B17: =_xlfn.WEBSERVICE(SUBSTITUTE(SUBSTITUTE(SUBSTITUTE(B13,"{postalCode}",B14),"{city}",B15),"{street}",B16)) -> #VALUE!
A19: 4. Routing Endpoint (for Emissions)
A20: Your endpoint: | B20: ="https://api.carbontracer.uni-graz.at/excel/routing/co2/" & $B$5 &"/{typ}/{start}/{destination}" -> https://api.carbontracer.uni-graz.at/excel/routing/co2/Bitte den 40-stelligen API-Key eintragen/{typ}/{start}/{destination}
A21: Typ: | B21: e-car/2 | C21: (Typen: train (Zug-Sitzplatz), ..., e-car/2 (E-Auto), car (Auto), ...)
A22: Start: | B22: Graz | C22: (Startort oder Startadresse)
A23: Destination: | B23: Wien | C23: (Zielort oder Zieladresse)
A24: Result: | B24: =_xlfn.WEBSERVICE(SUBSTITUTE(SUBSTITUTE(SUBSTITUTE(B20,"{typ}",B21),"{start}",B22),"{destination}",B23)) -> #VALUE! | C24: (Anzeige in kg CO2eq pro Person)
A26: 5. Routing Endpoint (for Distance)
A27: Your endpoint: | B27: ="https://api.carbontracer.uni-graz.at/excel/routing/distance/" & $B$5 &"/{typ}/{start}/{destination}" -> https://api.carbontracer.uni-graz.at/excel/routing/distance/Bitte den 40-stelligen API-Key eintragen/{typ}/{start}/{destination}
A28: Typ: | B28: e-car/2 | C28: (Typen: train (Zug-Sitzplatz), ..., e-car/2 (E-Auto), car (Auto), ...)
A29: Start: | B29: Graz | C29: (Startort oder Startadresse)
A30: Destination: | B30: Wien | C30: (Zielort oder Zieladresse)
A31: Result: | B31: =_xlfn.WEBSERVICE(SUBSTITUTE(SUBSTITUTE(SUBSTITUTE(B27,"{typ}",B28),"{start}",B29),"{destination}",B30)) -> #VALUE! | C31: (Anzeige in km)

Sheet Berechnungsblatt
A1: Verwenden Sie nachfolgende Tabelle als Berechnungstabelle
A2: 1. Führen Sie hier Berechnungen durch (Angabe von Start, Ziel und Auswahl des Verkehrsmittels) 2. Kopieren Sie Ihre Ergebnisse in die Ergebnistabelle (gewünschte Zeilen markieren (Spalte A-F) --> STRG+C 3. Gehen Sie in die Ergebnis-Liste -> Rechte Maustaste an gewünschter Position -> Inhalte einfügen -> Werte einfügen). 4. Löschen Sie die Daten im Berechnungsblatt anschließend, um Datenabfragen zu minimieren (Es stehen maximal 40 Requests pro Minute und 2000 Requests pro Tag zur Verfügung)
A4: Start | B4: Ziel | C4: Verkehrsmittel | D4: Spalte1 | E4: Distanz | F4: CO2eq-Emissionen | G4: Spalte2
A5: Graz | B5: Wien | C5: Zug (Sitzplatz) | D5: =IF(AND(C5<>"",B5<>"",A5<>""),"x","") -> x | E5: =IF(D5="x",_xlfn.WEBSERVICE(SUBSTITUTE(SUBSTITUTE(SUBSTITUTE('Test the API with Excel'!$B$27,"{typ}",Berechnungsblatt!G5),"{start}",Berechnungsblatt!A5),"{destination}",Berechnungsblatt!B5)),"") -> #VALUE! | F5: =IF(D5="x",_xlfn.WEBSERVICE(SUBSTITUTE(SUBSTITUTE(SUBSTITUTE('Test the API with Excel'!$B$20,"{typ}",Berechnungsblatt!G5),"{start}",Berechnungsblatt!A5),"{destination}",Berechnungsblatt!B5)),"") -> #VALUE! | G5: =IF(C5 = 'Datenquelle Verkehrsmittel'!$B$2,'Datenquelle Verkehrsmittel'!$A$2,IF(C5 = 'Datenquelle Verkehrsmittel'!$B$3,'Datenquelle Verkehrsmittel'!$A$3,IF(C5 = 'Datenquelle Verkehrsmittel'!$B$4,'Datenquelle Verkehrsmittel'!$A$4,IF(C5 = 'Datenquelle Verkehrsmittel'!$B$5,'Datenquelle Verkehrsmittel'!$A$5,IF(C5 = 'Datenquelle Verkehrsmittel'!$B$6,'Datenquelle Verkehrsmittel'!$A$6,IF(C5 = 'Datenquelle Verkehrsmittel'!$B$7,'Datenquelle Verkehrsmittel'!$A$7,IF(C5 = 'Datenquelle Verkehrsmittel'!$B$8,'Datenquelle Verkehrsmittel'!$A$8,IF(C5 = 'Datenquelle Verkehrsmittel'!$B$9,'Datenquelle Verkehrsmittel'!$A$9,IF(C5 = 'Datenquelle Verkehrsmittel'!$B$10,'Datenquelle Verkehrsmittel'!$A$10,IF(C5 = 'Datenquelle Verkehrsmittel'!$B$11,'Datenquelle Verkehrsmittel'!$A$11,IF(C5 = 'Datenquelle Verkehrsmittel'!$B$12,'Datenquelle Verkehrsmittel'!$A$12,IF(C5 = 'Datenquelle Verkehrsmittel'!$B$13,'Datenquelle Verkehrsmittel'!$A$13,IF(C5 = 'Datenquelle Verkehrsmittel'!$B$14,'Datenquelle Verkehrsmittel'!$A$14,IF(C5 = 'Datenquelle Verkehrsmittel'!$B$15,'Datenquelle Verkehrsmittel'!$A$15,IF(C5 = 'Datenquelle Verkehrsmittel'!$B$16,'Datenquelle Verkehrsmittel'!$A$16,IF(C5 = 'Datenquelle Verkehrsmittel'!$B$17,'Datenquelle Verkehrsmittel'!$A$17,IF(C5 = 'Datenquelle Verkehrsmittel'!$B$18,'Datenquelle Verkehrsmittel'!$A$18,IF(C5 = 'Datenquelle Verkehrsmittel'!$B$19,'Datenquelle Verkehrsmittel'!$A$19,IF(C5 = 'Datenquelle Verkehrsmittel'!$B$1,'Datenquelle Verkehrsmittel'!$A$1,""))))))))))))))))))) -> train
A6: Wien | B6: Paris | C6: Flug (Economy) | D6: =IF(AND(C6<>"",B6<>"",A6<>""),"x","") -> x | E6: =IF(D6="x",_xlfn.WEBSERVICE(SUBSTITUTE(SUBSTITUTE(SUBSTITUTE('Test the API with Excel'!$B$27,"{typ}",Berechnungsblatt!G6),"{start}",Berechnungsblatt!A6),"{destination}",Berechnungsblatt!B6)),"") -> #VALUE! | F6: =IF(D6="x",_xlfn.WEBSERVICE(SUBSTITUTE(SUBSTITUTE(SUBSTITUTE('Test the API with Excel'!$B$20,"{typ}",Berechnungsblatt!G6),"{start}",Berechnungsblatt!A6),"{destination}",Berechnungsblatt!B6)),"") -> #VALUE! | G6: =IF(C6 = 'Datenquelle Verkehrsmittel'!$B$2,'Datenquelle Verkehrsmittel'!$A$2,IF(C6 = 'Datenquelle Verkehrsmittel'!$B$3,'Datenquelle Verkehrsmittel'!$A$3,IF(C6 = 'Datenquelle Verkehrsmittel'!$B$4,'Datenquelle Verkehrsmittel'!$A$4,IF(C6 = 'Datenquelle Verkehrsmittel'!$B$5,'Datenquelle Verkehrsmittel'!$A$5,IF(C6 = 'Datenquelle Verkehrsmittel'!$B$6,'Datenquelle Verkehrsmittel'!$A$6,IF(C6 = 'Datenquelle Verkehrsmittel'!$B$7,'Datenquelle Verkehrsmittel'!$A$7,IF(C6 = 'Datenquelle Verkehrsmittel'!$B$8,'Datenquelle Verkehrsmittel'!$A$8,IF(C6 = 'Datenquelle Verkehrsmittel'!$B$9,'Datenquelle Verkehrsmittel'!$A$9,IF(C6 = 'Datenquelle Verkehrsmittel'!$B$10,'Datenquelle Verkehrsmittel'!$A$10,IF(C6 = 'Datenquelle Verkehrsmittel'!$B$11,'Datenquelle Verkehrsmittel'!$A$11,IF(C6 = 'Datenquelle Verkehrsmittel'!$B$12,'Datenquelle Verkehrsmittel'!$A$12,IF(C6 = 'Datenquelle Verkehrsmittel'!$B$13,'Datenquelle Verkehrsmittel'!$A$13,IF(C6 = 'Datenquelle Verkehrsmittel'!$B$14,'Datenquelle Verkehrsmittel'!$A$14,IF(C6 = 'Datenquelle Verkehrsmittel'!$B$15,'Datenquelle Verkehrsmittel'!$A$15,IF(C6 = 'Datenquelle Verkehrsmittel'!$B$16,'Datenquelle Verkehrsmittel'!$A$16,IF(C6 = 'Datenquelle Verkehrsmittel'!$B$17,'Datenquelle Verkehrsmittel'!$A$17,IF(C6 = 'Datenquelle Verkehrsmittel'!$B$18,'Datenquelle Verkehrsmittel'!$A$18,IF(C6 = 'Datenquelle Verkehrsmittel'!$B$19,'Datenquelle Verkehrsmittel'!$A$19,IF(C6 = 'Datenquelle Verkehrsmittel'!$B$1,'Datenquelle Verkehrsmittel'!$A$1,""))))))))))))))))))) -> flight-economy
A7: 9360 Friesach | B7: 8114 Friesach | C7: Auto (2 Personen) | D7: =IF(AND(C7<>"",B7<>"",A7<>""),"x","") -> x | E7: =IF(D7="x",_xlfn.WEBSERVICE(SUBSTITUTE(SUBSTITUTE(SUBSTITUTE('Test the API with Excel'!$B$27,"{typ}",Berechnungsblatt!G7),"{start}",Berechnungsblatt!A7),"{destination}",Berechnungsblatt!B7)),"") -> #VALUE! | F7: =IF(D7="x",_xlfn.WEBSERVICE(SUBSTITUTE(SUBSTITUTE(SUBSTITUTE('Test the API with Excel'!$B$20,"{typ}",Berechnungsblatt!G7),"{start}",Berechnungsblatt!A7),"{destination}",Berechnungsblatt!B7)),"") -> #VALUE! | G7: =IF(C7 = 'Datenquelle Verkehrsmittel'!$B$2,'Datenquelle Verkehrsmittel'!$A$2,IF(C7 = 'Datenquelle Verkehrsmittel'!$B$3,'Datenquelle Verkehrsmittel'!$A$3,IF(C7 = 'Datenquelle Verkehrsmittel'!$B$4,'Datenquelle Verkehrsmittel'!$A$4,IF(C7 = 'Datenquelle Verkehrsmittel'!$B$5,'Datenquelle Verkehrsmittel'!$A$5,IF(C7 = 'Datenquelle Verkehrsmittel'!$B$6,'Datenquelle Verkehrsmittel'!$A$6,IF(C7 = 'Datenquelle Verkehrsmittel'!$B$7,'Datenquelle Verkehrsmittel'!$A$7,IF(C7 = 'Datenquelle Verkehrsmittel'!$B$8,'Datenquelle Verkehrsmittel'!$A$8,IF(C7 = 'Datenquelle Verkehrsmittel'!$B$9,'Datenquelle Verkehrsmittel'!$A$9,IF(C7 = 'Datenquelle Verkehrsmittel'!$B$10,'Datenquelle Verkehrsmittel'!$A$10,IF(C7 = 'Datenquelle Verkehrsmittel'!$B$11,'Datenquelle Verkehrsmittel'!$A$11,IF(C7 = 'Datenquelle Verkehrsmittel'!$B$12,'Datenquelle Verkehrsmittel'!$A$12,IF(C7 = 'Datenquelle Verkehrsmittel'!$B$13,'Datenquelle Verkehrsmittel'!$A$13,IF(C7 = 'Datenquelle Verkehrsmittel'!$B$14,'Datenquelle Verkehrsmittel'!$A$14,IF(C7 = 'Datenquelle Verkehrsmittel'!$B$15,'Datenquelle Verkehrsmittel'!$A$15,IF(C7 = 'Datenquelle Verkehrsmittel'!$B$16,'Datenquelle Verkehrsmittel'!$A$16,IF(C7 = 'Datenquelle Verkehrsmittel'!$B$17,'Datenquelle Verkehrsmittel'!$A$17,IF(C7 = 'Datenquelle Verkehrsmittel'!$B$18,'Datenquelle Verkehrsmittel'!$A$18,IF(C7 = 'Datenquelle Verkehrsmittel'!$B$19,'Datenquelle Verkehrsmittel'!$A$19,IF(C7 = 'Datenquelle Verkehrsmittel'!$B$1,'Datenquelle Verkehrsmittel'!$A$1,""))))))))))))))))))) -> car/2
D8: =IF(AND(C8<>"",B8<>"",A8<>""),"x","") | E8: =IF(D8="x",_xlfn.WEBSERVICE(SUBSTITUTE(SUBSTITUTE(SUBSTITUTE('Test the API with Excel'!$B$27,"{typ}",Berechnungsblatt!G8),"{start}",Berechnungsblatt!A8),"{destination}",Berechnungsblatt!B8)),"") | F8: =IF(D8="x",_xlfn.WEBSERVICE(SUBSTITUTE(SUBSTITUTE(SUBSTITUTE('Test the API with Excel'!$B$20,"{typ}",Berechnungsblatt!G8),"{start}",Berechnungsblatt!A8),"{destination}",Berechnungsblatt!B8)),"") | G8: =IF(C8 = 'Datenquelle Verkehrsmittel'!$B$2,'Datenquelle Verkehrsmittel'!$A$2,IF(C8 = 'Datenquelle Verkehrsmittel'!$B$3,'Datenquelle Verkehrsmittel'!$A$3,IF(C8 = 'Datenquelle Verkehrsmittel'!$B$4,'Datenquelle Verkehrsmittel'!$A$4,IF(C8 = 'Datenquelle Verkehrsmittel'!$B$5,'Datenquelle Verkehrsmittel'!$A$5,IF(C8 = 'Datenquelle Verkehrsmittel'!$B$6,'Datenquelle Verkehrsmittel'!$A$6,IF(C8 = 'Datenquelle Verkehrsmittel'!$B$7,'Datenquelle Verkehrsmittel'!$A$7,IF(C8 = 'Datenquelle Verkehrsmittel'!$B$8,'Datenquelle Verkehrsmittel'!$A$8,IF(C8 = 'Datenquelle Verkehrsmittel'!$B$9,'Datenquelle Verkehrsmittel'!$A$9,IF(C8 = 'Datenquelle Verkehrsmittel'!$B$10,'Datenquelle Verkehrsmittel'!$A$10,IF(C8 = 'Datenquelle Verkehrsmittel'!$B$11,'Datenquelle Verkehrsmittel'!$A$11,IF(C8 = 'Datenquelle Verkehrsmittel'!$B$12,'Datenquelle Verkehrsmittel'!$A$12,IF(C8 = 'Datenquelle Verkehrsmittel'!$B$13,'Datenquelle Verkehrsmittel'!$A$13,IF(C8 = 'Datenquelle Verkehrsmittel'!$B$14,'Datenquelle Verkehrsmittel'!$A$14,IF(C8 = 'Datenquelle Verkehrsmittel'!$B$15,'Datenquelle Verkehrsmittel'!$A$15,IF(C8 = 'Datenquelle Verkehrsmittel'!$B$16,'Datenquelle Verkehrsmittel'!$A$16,IF(C8 = 'Datenquelle Verkehrsmittel'!$B$17,'Datenquelle Verkehrsmittel'!$A$17,IF(C8 = 'Datenquelle Verkehrsmittel'!$B$18,'Datenquelle Verkehrsmittel'!$A$18,IF(C8 = 'Datenquelle Verkehrsmittel'!$B$19,'Datenquelle Verkehrsmittel'!$A$19,IF(C8 = 'Datenquelle Verkehrsmittel'!$B$1,'Datenquelle Verkehrsmittel'!$A$1,""))))))))))))))))))) -> 0
D9: =IF(AND(C9<>"",B9<>"",A9<>""),"x","") | E9: =IF(D9="x",_xlfn.WEBSERVICE(SUBSTITUTE(SUBSTITUTE(SUBSTITUTE('Test the API with Excel'!$B$27,"{typ}",Berechnungsblatt!G9),"{start}",Berechnungsblatt!A9),"{destination}",Berechnungsblatt!B9)),"") | F9: =IF(D9="x",_xlfn.WEBSERVICE(SUBSTITUTE(SUBSTITUTE(SUBSTITUTE('Test the API with Excel'!$B$20,"{typ}",Berechnungsblatt!G9),"{start}",Berechnungsblatt!A9),"{destination}",Berechnungsblatt!B9)),"") | G9: =IF(C9 = 'Datenquelle Verkehrsmittel'!$B$2,'Datenquelle Verkehrsmittel'!$A$2,IF(C9 = 'Datenquelle Verkehrsmittel'!$B$3,'Datenquelle Verkehrsmittel'!$A$3,IF(C9 = 'Datenquelle Verkehrsmittel'!$B$4,'Datenquelle Verkehrsmittel'!$A$4,IF(C9 = 'Datenquelle Verkehrsmittel'!$B$5,'Datenquelle Verkehrsmittel'!$A$5,IF(C9 = 'Datenquelle Verkehrsmittel'!$B$6,'Datenquelle Verkehrsmittel'!$A$6,IF(C9 = 'Datenquelle Verkehrsmittel'!$B$7,'Datenquelle Verkehrsmittel'!$A$7,IF(C9 = 'Datenquelle Verkehrsmittel'!$B$8,'Datenquelle Verkehrsmittel'!$A$8,IF(C9 = 'Datenquelle Verkehrsmittel'!$B$9,'Datenquelle Verkehrsmittel'!$A$9,IF(C9 = 'Datenquelle Verkehrsmittel'!$B$10,'Datenquelle Verkehrsmittel'!$A$10,IF(C9 = 'Datenquelle Verkehrsmittel'!$B$11,'Datenquelle Verkehrsmittel'!$A$11,IF(C9 = 'Datenquelle Verkehrsmittel'!$B$12,'Datenquelle Verkehrsmittel'!$A$12,IF(C9 = 'Datenquelle Verkehrsmittel'!$B$13,'Datenquelle Verkehrsmittel'!$A$13,IF(C9 = 'Datenquelle Verkehrsmittel'!$B$14,'Datenquelle Verkehrsmittel'!$A$14,IF(C9 = 'Datenquelle Verkehrsmittel'!$B$15,'Datenquelle Verkehrsmittel'!$A$15,IF(C9 = 'Datenquelle Verkehrsmittel'!$B$16,'Datenquelle Verkehrsmittel'!$A$16,IF(C9 = 'Datenquelle Verkehrsmittel'!$B$17,'Datenquelle Verkehrsmittel'!$A$17,IF(C9 = 'Datenquelle Verkehrsmittel'!$B$18,'Datenquelle Verkehrsmittel'!$A$18,IF(C9 = 'Datenquelle Verkehrsmittel'!$B$19,'Datenquelle Verkehrsmittel'!$A$19,IF(C9 = 'Datenquelle Verkehrsmittel'!$B$1,'Datenquelle Verkehrsmittel'!$A$1,""))))))))))))))))))) -> 0
D10: =IF(AND(C10<>"",B10<>"",A10<>""),"x","") | E10: =IF(D10="x",_xlfn.WEBSERVICE(SUBSTITUTE(SUBSTITUTE(SUBSTITUTE('Test the API with Excel'!$B$27,"{typ}",Berechnungsblatt!G10),"{start}",Berechnungsblatt!A10),"{destination}",Berechnungsblatt!B10)),"") | F10: =IF(D10="x",_xlfn.WEBSERVICE(SUBSTITUTE(SUBSTITUTE(SUBSTITUTE('Test the API with Excel'!$B$20,"{typ}",Berechnungsblatt!G10),"{start}",Berechnungsblatt!A10),"{destination}",Berechnungsblatt!B10)),"") | G10: =IF(C10 = 'Datenquelle Verkehrsmittel'!$B$2,'Datenquelle Verkehrsmittel'!$A$2,IF(C10 = 'Datenquelle Verkehrsmittel'!$B$3,'Datenquelle Verkehrsmittel'!$A$3,IF(C10 = 'Datenquelle Verkehrsmittel'!$B$4,'Datenquelle Verkehrsmittel'!$A$4,IF(C10 = 'Datenquelle Verkehrsmittel'!$B$5,'Datenquelle Verkehrsmittel'!$A$5,IF(C10 = 'Datenquelle Verkehrsmittel'!$B$6,'Datenquelle Verkehrsmittel'!$A$6,IF(C10 = 'Datenquelle Verkehrsmittel'!$B$7,'Datenquelle Verkehrsmittel'!$A$7,IF(C10 = 'Datenquelle Verkehrsmittel'!$B$8,'Datenquelle Verkehrsmittel'!$A$8,IF(C10 = 'Datenquelle Verkehrsmittel'!$B$9,'Datenquelle Verkehrsmittel'!$A$9,IF(C10 = 'Datenquelle Verkehrsmittel'!$B$10,'Datenquelle Verkehrsmittel'!$A$10,IF(C10 = 'Datenquelle Verkehrsmittel'!$B$11,'Datenquelle Verkehrsmittel'!$A$11,IF(C10 = 'Datenquelle Verkehrsmittel'!$B$12,'Datenquelle Verkehrsmittel'!$A$12,IF(C10 = 'Datenquelle Verkehrsmittel'!$B$13,'Datenquelle Verkehrsmittel'!$A$13,IF(C10 = 'Datenquelle Verkehrsmittel'!$B$14,'Datenquelle Verkehrsmittel'!$A$14,IF(C10 = 'Datenquelle Verkehrsmittel'!$B$15,'Datenquelle Verkehrsmittel'!$A$15,IF(C10 = 'Datenquelle Verkehrsmittel'!$B$16,'Datenquelle Verkehrsmittel'!$A$16,IF(C10 = 'Datenquelle Verkehrsmittel'!$B$17,'Datenquelle Verkehrsmittel'!$A$17,IF(C10 = 'Datenquelle Verkehrsmittel'!$B$18,'Datenquelle Verkehrsmittel'!$A$18,IF(C10 = 'Datenquelle Verkehrsmittel'!$B$19,'Datenquelle Verkehrsmittel'!$A$19,IF(C10 = 'Datenquelle Verkehrsmittel'!$B$1,'Datenquelle Verkehrsmittel'!$A$1,""))))))))))))))))))) -> 0
D11: =IF(AND(C11<>"",B11<>"",A11<>""),"x","") | E11: =IF(D11="x",_xlfn.WEBSERVICE(SUBSTITUTE(SUBSTITUTE(SUBSTITUTE('Test the API with Excel'!$B$27,"{typ}",Berechnungsblatt!G11),"{start}",Berechnungsblatt!A11),"{destination}",Berechnungsblatt!B11)),"") | F11: =IF(D11="x",_xlfn.WEBSERVICE(SUBSTITUTE(SUBSTITUTE(SUBSTITUTE('Test the API with Excel'!$B$20,"{typ}",Berechnungsblatt!G11),"{start}",Berechnungsblatt!A11),"{destination}",Berechnungsblatt!B11)),"") | G11: =IF(C11 = 'Datenquelle Verkehrsmittel'!$B$2,'Datenquelle Verkehrsmittel'!$A$2,IF(C11 = 'Datenquelle Verkehrsmittel'!$B$3,'Datenquelle Verkehrsmittel'!$A$3,IF(C11 = 'Datenquelle Verkehrsmittel'!$B$4,'Datenquelle Verkehrsmittel'!$A$4,IF(C11 = 'Datenquelle Verkehrsmittel'!$B$5,'Datenquelle Verkehrsmittel'!$A$5,IF(C11 = 'Datenquelle Verkehrsmittel'!$B$6,'Datenquelle Verkehrsmittel'!$A$6,IF(C11 = 'Datenquelle Verkehrsmittel'!$B$7,'Datenquelle Verkehrsmittel'!$A$7,IF(C11 = 'Datenquelle Verkehrsmittel'!$B$8,'Datenquelle Verkehrsmittel'!$A$8,IF(C11 = 'Datenquelle Verkehrsmittel'!$B$9,'Datenquelle Verkehrsmittel'!$A$9,IF(C11 = 'Datenquelle Verkehrsmittel'!$B$10,'Datenquelle Verkehrsmittel'!$A$10,IF(C11 = 'Datenquelle Verkehrsmittel'!$B$11,'Datenquelle Verkehrsmittel'!$A$11,IF(C11 = 'Datenquelle Verkehrsmittel'!$B$12,'Datenquelle Verkehrsmittel'!$A$12,IF(C11 = 'Datenquelle Verkehrsmittel'!$B$13,'Datenquelle Verkehrsmittel'!$A$13,IF(C11 = 'Datenquelle Verkehrsmittel'!$B$14,'Datenquelle Verkehrsmittel'!$A$14,IF(C11 = 'Datenquelle Verkehrsmittel'!$B$15,'Datenquelle Verkehrsmittel'!$A$15,IF(C11 = 'Datenquelle Verkehrsmittel'!$B$16,'Datenquelle Verkehrsmittel'!$A$16,IF(C11 = 'Datenquelle Verkehrsmittel'!$B$17,'Datenquelle Verkehrsmittel'!$A$17,IF(C11 = 'Datenquelle Verkehrsmittel'!$B$18,'Datenquelle Verkehrsmittel'!$A$18,IF(C11 = 'Datenquelle Verkehrsmittel'!$B$19,'Datenquelle Verkehrsmittel'!$A$19,IF(C11 = 'Datenquelle Verkehrsmittel'!$B$1,'Datenquelle Verkehrsmittel'!$A$1,""))))))))))))))))))) -> 0
D12: =IF(AND(C12<>"",B12<>"",A12<>""),"x","") | E12: =IF(D12="x",_xlfn.WEBSERVICE(SUBSTITUTE(SUBSTITUTE(SUBSTITUTE('Test the API with Excel'!$B$27,"{typ}",Berechnungsblatt!G12),"{start}",Berechnungsblatt!A12),"{destination}",Berechnungsblatt!B12)),"") | F12: =IF(D12="x",_xlfn.WEBSERVICE(SUBSTITUTE(SUBSTITUTE(SUBSTITUTE('Test the API with Excel'!$B$20,"{typ}",Berechnungsblatt!G12),"{start}",Berechnungsblatt!A12),"{destination}",Berechnungsblatt!B12)),"") | G12: =IF(C12 = 'Datenquelle Verkehrsmittel'!$B$2,'Datenquelle Verkehrsmittel'!$A$2,IF(C12 = 'Datenquelle Verkehrsmittel'!$B$3,'Datenquelle Verkehrsmittel'!$A$3,IF(C12 = 'Datenquelle Verkehrsmittel'!$B$4,'Datenquelle Verkehrsmittel'!$A$4,IF(C12 = 'Datenquelle Verkehrsmittel'!$B$5,'Datenquelle Verkehrsmittel'!$A$5,IF(C12 = 'Datenquelle Verkehrsmittel'!$B$6,'Datenquelle Verkehrsmittel'!$A$6,IF(C12 = 'Datenquelle Verkehrsmittel'!$B$7,'Datenquelle Verkehrsmittel'!$A$7,IF(C12 = 'Datenquelle Verkehrsmittel'!$B$8,'Datenquelle Verkehrsmittel'!$A$8,IF(C12 = 'Datenquelle Verkehrsmittel'!$B$9,'Datenquelle Verkehrsmittel'!$A$9,IF(C12 = 'Datenquelle Verkehrsmittel'!$B$10,'Datenquelle Verkehrsmittel'!$A$10,IF(C12 = 'Datenquelle Verkehrsmittel'!$B$11,'Datenquelle Verkehrsmittel'!$A$11,IF(C12 = 'Datenquelle Verkehrsmittel'!$B$12,'Datenquelle Verkehrsmittel'!$A$12,IF(C12 = 'Datenquelle Verkehrsmittel'!$B$13,'Datenquelle Verkehrsmittel'!$A$13,IF(C12 = 'Datenquelle Verkehrsmittel'!$B$14,'Datenquelle Verkehrsmittel'!$A$14,IF(C12 = 'Datenquelle Verkehrsmittel'!$B$15,'Datenquelle Verkehrsmittel'!$A$15,IF(C12 = 'Datenquelle Verkehrsmittel'!$B$16,'Datenquelle Verkehrsmittel'!$A$16,IF(C12 = 'Datenquelle Verkehrsmittel'!$B$17,'Datenquelle Verkehrsmittel'!$A$17,IF(C12 = 'Datenquelle Verkehrsmittel'!$B$18,'Datenquelle Verkehrsmittel'!$A$18,IF(C12 = 'Datenquelle Verkehrsmittel'!$B$19,'Datenquelle Verkehrsmittel'!$A$19,IF(C12 = 'Datenquelle Verkehrsmittel'!$B$1,'Datenquelle Verkehrsmittel'!$A$1,""))))))))))))))))))) -> 0
D13: =IF(AND(C13<>"",B13<>"",A13<>""),"x","") | E13: =IF(D13="x",_xlfn.WEBSERVICE(SUBSTITUTE(SUBSTITUTE(SUBSTITUTE('Test the API with Excel'!$B$27,"{typ}",Berechnungsblatt!G13),"{start}",Berechnungsblatt!A13),"{destination}",Berechnungsblatt!B13)),"") | F13: =IF(D13="x",_xlfn.WEBSERVICE(SUBSTITUTE(SUBSTITUTE(SUBSTITUTE('Test the API with Excel'!$B$20,"{typ}",Berechnungsblatt!G13),"{start}",Berechnungsblatt!A13),"{destination}",Berechnungsblatt!B13)),"") | G13: =IF(C13 = 'Datenquelle Verkehrsmittel'!$B$2,'Datenquelle Verkehrsmittel'!$A$2,IF(C13 = 'Datenquelle Verkehrsmittel'!$B$3,'Datenquelle Verkehrsmittel'!$A$3,IF(C13 = 'Datenquelle Verkehrsmittel'!$B$4,'Datenquelle Verkehrsmittel'!$A$4,IF(C13 = 'Datenquelle Verkehrsmittel'!$B$5,'Datenquelle Verkehrsmittel'!$A$5,IF(C13 = 'Datenquelle Verkehrsmittel'!$B$6,'Datenquelle Verkehrsmittel'!$A$6,IF(C13 = 'Datenquelle Verkehrsmittel'!$B$7,'Datenquelle Verkehrsmittel'!$A$7,IF(C13 = 'Datenquelle Verkehrsmittel'!$B$8,'Datenquelle Verkehrsmittel'!$A$8,IF(C13 = 'Datenquelle Verkehrsmittel'!$B$9,'Datenquelle Verkehrsmittel'!$A$9,IF(C13 = 'Datenquelle Verkehrsmittel'!$B$10,'Datenquelle Verkehrsmittel'!$A$10,IF(C13 = 'Datenquelle Verkehrsmittel'!$B$11,'Datenquelle Verkehrsmittel'!$A$11,IF(C13 = 'Datenquelle Verkehrsmittel'!$B$12,'Datenquelle Verkehrsmittel'!$A$12,IF(C13 = 'Datenquelle Verkehrsmittel'!$B$13,'Datenquelle Verkehrsmittel'!$A$13,IF(C13 = 'Datenquelle Verkehrsmittel'!$B$14,'Datenquelle Verkehrsmittel'!$A$14,IF(C13 = 'Datenquelle Verkehrsmittel'!$B$15,'Datenquelle Verkehrsmittel'!$A$15,IF(C13 = 'Datenquelle Verkehrsmittel'!$B$16,'Datenquelle Verkehrsmittel'!$A$16,IF(C13 = 'Datenquelle Verkehrsmittel'!$B$17,'Datenquelle Verkehrsmittel'!$A$17,IF(C13 = 'Datenquelle Verkehrsmittel'!$B$18,'Datenquelle Verkehrsmittel'!$A$18,IF(C13 = 'Datenquelle Verkehrsmittel'!$B$19,'Datenquelle Verkehrsmittel'!$A$19,IF(C13 = 'Datenquelle Verkehrsmittel'!$B$1,'Datenquelle Verkehrsmittel'!$A$1,""))))))))))))))))))) -> 0
D14: =IF(AND(C14<>"",B14<>"",A14<>""),"x","") | E14: =IF(D14="x",_xlfn.WEBSERVICE(SUBSTITUTE(SUBSTITUTE(SUBSTITUTE('Test the API with Excel'!$B$27,"{typ}",Berechnungsblatt!G14),"{start}",Berechnungsblatt!A14),"{destination}",Berechnungsblatt!B14)),"") | F14: =IF(D14="x",_xlfn.WEBSERVICE(SUBSTITUTE(SUBSTITUTE(SUBSTITUTE('Test the API with Excel'!$B$20,"{typ}",Berechnungsblatt!G14),"{start}",Berechnungsblatt!A14),"{destination}",Berechnungsblatt!B14)),"") | G14: =IF(C14 = 'Datenquelle Verkehrsmittel'!$B$2,'Datenquelle Verkehrsmittel'!$A$2,IF(C14 = 'Datenquelle Verkehrsmittel'!$B$3,'Datenquelle Verkehrsmittel'!$A$3,IF(C14 = 'Datenquelle Verkehrsmittel'!$B$4,'Datenquelle Verkehrsmittel'!$A$4,IF(C14 = 'Datenquelle Verkehrsmittel'!$B$5,'Datenquelle Verkehrsmittel'!$A$5,IF(C14 = 'Datenquelle Verkehrsmittel'!$B$6,'Datenquelle Verkehrsmittel'!$A$6,IF(C14 = 'Datenquelle Verkehrsmittel'!$B$7,'Datenquelle Verkehrsmittel'!$A$7,IF(C14 = 'Datenquelle Verkehrsmittel'!$B$8,'Datenquelle Verkehrsmittel'!$A$8,IF(C14 = 'Datenquelle Verkehrsmittel'!$B$9,'Datenquelle Verkehrsmittel'!$A$9,IF(C14 = 'Datenquelle Verkehrsmittel'!$B$10,'Datenquelle Verkehrsmittel'!$A$10,IF(C14 = 'Datenquelle Verkehrsmittel'!$B$11,'Datenquelle Verkehrsmittel'!$A$11,IF(C14 = 'Datenquelle Verkehrsmittel'!$B$12,'Datenquelle Verkehrsmittel'!$A$12,IF(C14 = 'Datenquelle Verkehrsmittel'!$B$13,'Datenquelle Verkehrsmittel'!$A$13,IF(C14 = 'Datenquelle Verkehrsmittel'!$B$14,'Datenquelle Verkehrsmittel'!$A$14,IF(C14 = 'Datenquelle Verkehrsmittel'!$B$15,'Datenquelle Verkehrsmittel'!$A$15,IF(C14 = 'Datenquelle Verkehrsmittel'!$B$16,'Datenquelle Verkehrsmittel'!$A$16,IF(C14 = 'Datenquelle Verkehrsmittel'!$B$17,'Datenquelle Verkehrsmittel'!$A$17,IF(C14 = 'Datenquelle Verkehrsmittel'!$B$18,'Datenquelle Verkehrsmittel'!$A$18,IF(C14 = 'Datenquelle Verkehrsmittel'!$B$19,'Datenquelle Verkehrsmittel'!$A$19,IF(C14 = 'Datenquelle Verkehrsmittel'!$B$1,'Datenquelle Verkehrsmittel'!$A$1,""))))))))))))))))))) -> 0
D15: =IF(AND(C15<>"",B15<>"",A15<>""),"x","") | E15: =IF(D15="x",_xlfn.WEBSERVICE(SUBSTITUTE(SUBSTITUTE(SUBSTITUTE('Test the API with Excel'!$B$27,"{typ}",Berechnungsblatt!C15),"{start}",Berechnungsblatt!A15),"{destination}",Berechnungsblatt!B15)),"") | F15: =IF(D15="x",_xlfn.WEBSERVICE(SUBSTITUTE(SUBSTITUTE(SUBSTITUTE('Test the API with Excel'!$B$20,"{typ}",Berechnungsblatt!C15),"{start}",Berechnungsblatt!A15),"{destination}",Berechnungsblatt!B15)),"")
D16: =IF(AND(C16<>"",B16<>"",A16<>""),"x","") | E16: =IF(D16="x",_xlfn.WEBSERVICE(SUBSTITUTE(SUBSTITUTE(SUBSTITUTE('Test the API with Excel'!$B$27,"{typ}",Berechnungsblatt!C16),"{start}",Berechnungsblatt!A16),"{destination}",Berechnungsblatt!B16)),"") | F16: =IF(D16="x",_xlfn.WEBSERVICE(SUBSTITUTE(SUBSTITUTE(SUBSTITUTE('Test the API with Excel'!$B$20,"{typ}",Berechnungsblatt!C16),"{start}",Berechnungsblatt!A16),"{destination}",Berechnungsblatt!B16)),"")
D17: =IF(AND(C17<>"",B17<>"",A17<>""),"x","") | E17: =IF(D17="x",_xlfn.WEBSERVICE(SUBSTITUTE(SUBSTITUTE(SUBSTITUTE('Test the API with Excel'!$B$27,"{typ}",Berechnungsblatt!C17),"{start}",Berechnungsblatt!A17),"{destination}",Berechnungsblatt!B17)),"") | F17: =IF(D17="x",_xlfn.WEBSERVICE(SUBSTITUTE(SUBSTITUTE(SUBSTITUTE('Test the API with Excel'!$B$20,"{typ}",Berechnungsblatt!C17),"{start}",Berechnungsblatt!A17),"{destination}",Berechnungsblatt!B17)),"")

Sheet Ergebnis-Liste
A1: Verwenden Sie nachfolgende Tabelle als Ergebnisliste
A2: kopieren Sie Ihre Ergebnisse in diese Tabelle (Rechte Maustaste -> Inhalte einfügen -> Werte einfügen).
A4: Start | B4: Zeil | C4: Verkehrsmittel | E4: Distanz | F4: CO2eq-Emissionen
A5: Graz | B5: Wien | C5: Zug (Sitzplatz) | D5: x | E5: 204.677 | F5: 3.07
A6: Wien | B6: Paris | C6: Flug (Economy) | D6: x | E6: 1132.25 | F6: 330.617
A7: 9360 Friesach | B7: 8114 Friesach | C7: Auto (2 Personen) | D7: x | E7: 129.962 | F7: 16.2

Sheet Datenquelle Verkehrsmittel
A2: train | B2: Zug (Sitzplatz)
A3: trainL | B3: Zug (Liegewagen)
A4: trainS | B4: Zug (Schlafwagen)
A5: e-car/1 | B5: E-Auto (1 Person)
A6: e-car/2 | B6: E-Auto (2 Personen)
A7: e-car/3 | B7: E-Auto (3 Personen)
A8: e-car/4 | B8: E-Auto (4 Personen)
A9: e-car/5 | B9: E-Auto (>4 Personen)
A10: car/1 | B10: Auto (1 Person)
A11: car/2 | B11: Auto (2 Personen)
A12: car/3 | B12: Auto (3 Personen)
A13: car/4 | B13: Auto (4 Personen)
... A19: flight-firstclass | B19: Flug (Frist-Class)

Sheet Change-Log
A1: Excel-Vorlage Change-Log:
A3: Version | B3: Datum | C3: Änderungen
A4: v4 | B4: 45162 | C4: Belegung für Optionen Auto und E-Auto wurden integriert
C5: Verkehrsmittel-Auswahl - lesbare Textfelder
